BEGIN:VCALENDAR
VERSION:2.0
PRODID:-//The Sheppey Inn - Near Wells &amp; Glastonbury - ECPv6.15.20//NONSGML v1.0//EN
CALSCALE:GREGORIAN
METHOD:PUBLISH
X-WR-CALNAME:The Sheppey Inn - Near Wells &amp; Glastonbury
X-ORIGINAL-URL:https://thesheppey.co.uk
X-WR-CALDESC:Events for The Sheppey Inn - Near Wells &amp; Glastonbury
REFRESH-INTERVAL;VALUE=DURATION:PT1H
X-Robots-Tag:noindex
X-PUBLISHED-TTL:PT1H
BEGIN:VTIMEZONE
TZID:Europe/London
BEGIN:DAYLIGHT
TZOFFSETFROM:+0000
TZOFFSETTO:+0100
TZNAME:BST
DTSTART:20250330T010000
END:DAYLIGHT
BEGIN:STANDARD
TZOFFSETFROM:+0100
TZOFFSETTO:+0000
TZNAME:GMT
DTSTART:20251026T010000
END:STANDARD
BEGIN:DAYLIGHT
TZOFFSETFROM:+0000
TZOFFSETTO:+0100
TZNAME:BST
DTSTART:20260329T010000
END:DAYLIGHT
BEGIN:STANDARD
TZOFFSETFROM:+0100
TZOFFSETTO:+0000
TZNAME:GMT
DTSTART:20261025T010000
END:STANDARD
BEGIN:DAYLIGHT
TZOFFSETFROM:+0000
TZOFFSETTO:+0100
TZNAME:BST
DTSTART:20270328T010000
END:DAYLIGHT
BEGIN:STANDARD
TZOFFSETFROM:+0100
TZOFFSETTO:+0000
TZNAME:GMT
DTSTART:20271031T010000
END:STANDARD
END:VTIMEZONE
BEGIN:VEVENT
DTSTART;TZID=Europe/London:20260314T193000
DTEND;TZID=Europe/London:20260314T230000
DTSTAMP:20260424T182345
CREATED:20260310T181954Z
LAST-MODIFIED:20260310T181954Z
UID:10000784-1773516600-1773529200@thesheppey.co.uk
SUMMARY:Live Music : Riki Buckingham
DESCRIPTION:Live Music: Riki Buckingham @ The Sheppey Inn\nGet ready for an evening of soulful sounds and infectious rhythms! We are thrilled to welcome the incredibly talented Riki Buckingham back to The Sheppey Inn on Saturday\, 14 March. \nKnown for his unique blend of soul\, funk\, and blues\, Riki brings a visionary energy to the stage. His performances are more than just a gig—they are a journey through warm vocals and masterful guitar work\, often weaving in elements of jazz\, flamenco\, and bossa nova. \nWhether you’re a long-time fan or looking for the perfect Saturday night out in Godney\, this is one you won’t want to miss. \n\nEvent Details:\n\n\nDate: Saturday\, 14 March 2026 \n\n\nTime: 7:30 pm \n\n\nVenue: The Sheppey Inn\, Lower Godney \n\n\nVibe: Heart\, Soul\, Funk & Blues \n\n\nGather your friends\, grab a pint of local cider\, and settle in for a brilliant night of live music. See you down the front!
URL:https://thesheppey.co.uk/event/live-music-riki-buckingham-7/
LOCATION:The Sheppey Inn\, The Sheppey Inn\, Lower Godney\, Wells\, Somerset\, BA5 1RZ\, United Kingdom
ATTACH;FMTTYPE=image/png:https://thesheppey.co.uk/wp-content/uploads/2026-03-14-Live-@-The-Sheppey.png
ORGANIZER;CN="Tamsin":MAILTO:contactus@thesheppey.co.uk
END:VEVENT
END:VCALENDAR