BEGIN:VCALENDAR
VERSION:2.0
PRODID:-//The Sheppey Inn - Near Wells &amp; Glastonbury - ECPv6.15.20//NONSGML v1.0//EN
CALSCALE:GREGORIAN
METHOD:PUBLISH
X-WR-CALNAME:The Sheppey Inn - Near Wells &amp; Glastonbury
X-ORIGINAL-URL:https://thesheppey.co.uk
X-WR-CALDESC:Events for The Sheppey Inn - Near Wells &amp; Glastonbury
REFRESH-INTERVAL;VALUE=DURATION:PT1H
X-Robots-Tag:noindex
X-PUBLISHED-TTL:PT1H
BEGIN:VTIMEZONE
TZID:Europe/London
BEGIN:DAYLIGHT
TZOFFSETFROM:+0000
TZOFFSETTO:+0100
TZNAME:BST
DTSTART:20240331T010000
END:DAYLIGHT
BEGIN:STANDARD
TZOFFSETFROM:+0100
TZOFFSETTO:+0000
TZNAME:GMT
DTSTART:20241027T010000
END:STANDARD
BEGIN:DAYLIGHT
TZOFFSETFROM:+0000
TZOFFSETTO:+0100
TZNAME:BST
DTSTART:20250330T010000
END:DAYLIGHT
BEGIN:STANDARD
TZOFFSETFROM:+0100
TZOFFSETTO:+0000
TZNAME:GMT
DTSTART:20251026T010000
END:STANDARD
BEGIN:DAYLIGHT
TZOFFSETFROM:+0000
TZOFFSETTO:+0100
TZNAME:BST
DTSTART:20260329T010000
END:DAYLIGHT
BEGIN:STANDARD
TZOFFSETFROM:+0100
TZOFFSETTO:+0000
TZNAME:GMT
DTSTART:20261025T010000
END:STANDARD
BEGIN:DAYLIGHT
TZOFFSETFROM:+0000
TZOFFSETTO:+0100
TZNAME:BST
DTSTART:20270328T010000
END:DAYLIGHT
BEGIN:STANDARD
TZOFFSETFROM:+0100
TZOFFSETTO:+0000
TZNAME:GMT
DTSTART:20271031T010000
END:STANDARD
END:VTIMEZONE
BEGIN:VEVENT
DTSTART;TZID=Europe/London:20251206T200000
DTEND;TZID=Europe/London:20251206T230000
DTSTAMP:20260424T152636
CREATED:20251119T183936Z
LAST-MODIFIED:20251119T184554Z
UID:10000775-1765051200-1765062000@thesheppey.co.uk
SUMMARY:Live Music : Riki Buckingham
DESCRIPTION:Unmissable Gig Alert! Riki Buckingham and Amir Live at The Sheppey!\n  \nMark your calendars\, music fans! We’ve got a sensational evening of live music coming up\, guaranteed to chase away the December chill and get your toes tapping. \nGet ready to head down to The Sheppey on Saturday\, 6th December\, as we welcome the incredibly talented duo of Riki Buckingham and Amir to our stage. \nMeet the Musicians\n  \nRiki Buckingham\, a familiar face and a truly gifted musician\, will be taking centre stage\, showcasing his formidable skills on the guitar while delivering his soulful vocals. Riki is known for his brilliant renditions and engaging stage presence\, covering a range of genres that always strike a chord with the audience. \nJoining Riki to hold down the rhythm section is the fantastic Amir on drums. Amir’s powerful and precise drumming provides the perfect foundation\, elevating the performance and ensuring every song hits just right. Expect tight grooves and electrifying energy! \nWhy You Can’t Miss This\n  \nThis pairing of Riki and Amir is a dynamic collaboration\, promising a setlist packed with brilliant musicianship and high-energy performances. Whether you’re a devoted follower of Riki’s guitar work or just looking for a cracking night out with great tunes\, this is the place to be. \n\n\nDate: Saturday\, 6th December \n\n\nVenue: The Sheppey \n\n\nFeaturing: Riki Buckingham (Guitar & Vocals) and Amir (Drums) \n\n\nWhat to Expect: Exceptional live music\, great atmosphere\, and a fully stocked bar! \n\n\nSo\, gather your mates\, spread the word\, and prepare for an unforgettable evening. Let’s make this a night to remember! \nSee you down the front!
URL:https://thesheppey.co.uk/event/live-music-riki-buckingham-5/
LOCATION:The Sheppey Inn\, The Sheppey Inn\, Lower Godney\, Wells\, Somerset\, BA5 1RZ\, United Kingdom
ATTACH;FMTTYPE=image/png:https://thesheppey.co.uk/wp-content/uploads/RB-Live-at-the-Sheppey-Godney.png
ORGANIZER;CN="Tamsin":MAILTO:contactus@thesheppey.co.uk
END:VEVENT
BEGIN:VEVENT
DTSTART;TZID=Europe/London:20251213T200000
DTEND;TZID=Europe/London:20251213T230000
DTSTAMP:20260424T152636
CREATED:20250926T140053Z
LAST-MODIFIED:20250926T140123Z
UID:10000768-1765656000-1765666800@thesheppey.co.uk
SUMMARY:Live Gypsy Jazz: Newtons Toad
DESCRIPTION:Hot Club Sounds Coming to The Sheppey: Newton’s Toad on 13th December!\n  \n\nGet ready for an evening of sizzling\, sophisticated Gypsy Jazz because we are delighted to announce that the phenomenal Newton’s Toad will be playing live at The Sheppey on Saturday\, 13th December 2025! \nKicking off at 8:00 PM\, Newton’s Toad are renowned for their authentic\, toe-tapping take on the style pioneered by the legendary Django Reinhardt. Expect intricate guitar work\, infectious rhythms\, and a truly atmospheric performance that will transport you straight to a smoky Paris jazz club. \n  \nMake a Night of It!\n  \nWhy just come for the music when you could enjoy a fantastic meal as well? A Saturday night of live jazz calls for a proper supper! \n\nBook a Table for Dinner: Secure a prime spot\, settle in\, and enjoy our menu before Newton’s Toad takes to the stage. It’s the perfect way to spend your Saturday evening!\nHost Your Christmas Party: Looking for a unique venue for your office or family Christmas party? Combine our delicious festive food and drink packages with the superb sound of Newton’s Toad for a party everyone will remember. Contact us now to discuss options for large groups!\n\n  \nDrinks and Jams\n  \nIf you fancy a more casual evening\, you’re more than welcome to just pop in for a drink! Grab a pint of local ale\, a refreshing cocktail\, or a lovely glass of wine and soak up the incredible atmosphere. We’ll be ready to welcome you! \n\nDon’t Miss Out! \nThis is set to be a brilliant night of world-class music\, so make sure you don’t miss out on seeing Newton’s Toad live. \nDate: Saturday\, 13th December 2025 Time: Music starts at 8:00 PM Location: The Sheppey \nTo book your table for a meal or to enquire about Christmas party bookings\, please book online or  call us on 01458831594 \nWe look forward to seeing you there!
URL:https://thesheppey.co.uk/event/live-gypsy-jazz-newtons-toad/
LOCATION:The Sheppey Inn\, The Sheppey Inn\, Lower Godney\, Wells\, Somerset\, BA5 1RZ\, United Kingdom
ATTACH;FMTTYPE=image/jpeg:https://thesheppey.co.uk/wp-content/uploads/saturday-13th-december-2025-copy-scaled.jpg
ORGANIZER;CN="Tamsin":MAILTO:contactus@thesheppey.co.uk
END:VEVENT
BEGIN:VEVENT
DTSTART;TZID=Europe/London:20251218T200000
DTEND;TZID=Europe/London:20251218T230000
DTSTAMP:20260424T152636
CREATED:20250926T140513Z
LAST-MODIFIED:20250926T141051Z
UID:10000769-1766088000-1766098800@thesheppey.co.uk
SUMMARY:Live Gyspy Jazz: Newtons Toad
DESCRIPTION:Swing into Christmas: Newton’s Toad Return on Thursday\, 18th December!\n\n\n\n\n\n  \n\nFollowing what promises to be an exceptional Saturday night\, we are absolutely thrilled that the magnificent Newton’s Toad are making a swift return to The Sheppey for a second gig! Catch their electrifying Gypsy Jazz live on Thursday\, 18th December 2025. \nThe band will be kicking off their intricate and energetic set at 8:00 PM. Whether you missed their first performance or simply can’t get enough of their dazzling Django Reinhardt-style swing\, this midweek session is the perfect way to inject some sophisticated merriment into the run-up to Christmas. \n  \nYour Festive Midweek Treat\n  \nA Thursday night in December is the perfect time to wind down and warm up for the holidays. Why not let us handle the cooking? \n\nBook Your Table for a Meal: Escape the last-minute shopping rush and relax with a delicious meal. Booking a table guarantees you a comfortable spot to enjoy our seasonal menu before the music begins. It’s the ideal chance for a pre-Christmas catch-up with friends!\nThe Last-Minute Christmas Party: Has your team or group struggled to find a weekend date? A brilliant Thursday night with live music is a fantastic alternative! Enquire now about booking a large table or space for your Christmas party and let Newton’s Toad provide the festive atmosphere.\n\n  \nJust Popping In?\n  \nIf you’re only after a drink\, please do pop in for a pint! Our bar is stocked with a fine selection of local ales\, ciders\, and warming spirits. The atmosphere created by Newton’s Toad is truly special and best enjoyed with good company and a great drink in hand. \n\nDon’t miss this second chance to see them! \nThis superb Gypsy Jazz band is the ideal soundtrack to your festive December. \nDate: Thursday\, 18th December 2025 Time: Music starts at 8:00 PM Location: The Sheppey \nTo book your table for a meal\, or to discuss a last-minute Christmas party\, please call us on 01458831594 \nWe look forward to a fantastic Thursday evening with you!
URL:https://thesheppey.co.uk/event/live-gyspy-jazz-newtons-toad/
LOCATION:The Sheppey Inn\, The Sheppey Inn\, Lower Godney\, Wells\, Somerset\, BA5 1RZ\, United Kingdom
ATTACH;FMTTYPE=image/jpeg:https://thesheppey.co.uk/wp-content/uploads/saturday-18th-december-2025-copy-scaled.jpg
ORGANIZER;CN="Tamsin":MAILTO:contactus@thesheppey.co.uk
END:VEVENT
BEGIN:VEVENT
DTSTART;TZID=Europe/London:20251219T200000
DTEND;TZID=Europe/London:20251219T230000
DTSTAMP:20260424T152636
CREATED:20251119T184352Z
LAST-MODIFIED:20251119T184352Z
UID:10000776-1766174400-1766185200@thesheppey.co.uk
SUMMARY:Live Music : Riki Buckingham
DESCRIPTION:Unmissable Gig Alert! Riki Buckingham and Amir Live at The Sheppey!\n  \nMark your calendars\, music fans! We’ve got a sensational evening of live music coming up\, guaranteed to chase away the December chill and get your toes tapping. \nGet ready to head down to The Sheppey on Friday\, 19th December\, as we welcome the incredibly talented duo of Riki Buckingham and Amir to our stage. \nMeet the Musicians\n  \nRiki Buckingham\, a familiar face and a truly gifted musician\, will be taking centre stage\, showcasing his formidable skills on the guitar while delivering his soulful vocals. Riki is known for his brilliant renditions and engaging stage presence\, covering a range of genres that always strike a chord with the audience. \nJoining Riki to hold down the rhythm section is the fantastic Amir on drums. Amir’s powerful and precise drumming provides the perfect foundation\, elevating the performance and ensuring every song hits just right. Expect tight grooves and electrifying energy! \nWhy You Can’t Miss This\n  \nThis pairing of Riki and Amir is a dynamic collaboration\, promising a setlist packed with brilliant musicianship and high-energy performances. Whether you’re a devoted follower of Riki’s guitar work or just looking for a cracking night out with great tunes\, this is the place to be. \n\n\nDate: Friday\, 19th December \n\n\nVenue: The Sheppey \n\n\nFeaturing: Riki Buckingham (Guitar & Vocals) and Amir (Drums) \n\n\nWhat to Expect: Exceptional live music\, great atmosphere\, and a fully stocked bar! \n\n\nSo\, gather your mates\, spread the word\, and prepare for an unforgettable evening. Let’s make this a night to remember! \nSee you down the front!
URL:https://thesheppey.co.uk/event/live-music-riki-buckingham-6/
LOCATION:The Sheppey Inn\, The Sheppey Inn\, Lower Godney\, Wells\, Somerset\, BA5 1RZ\, United Kingdom
ATTACH;FMTTYPE=image/png:https://thesheppey.co.uk/wp-content/uploads/RB-Live-at-the-Sheppey-Godney.png
ORGANIZER;CN="Tamsin":MAILTO:contactus@thesheppey.co.uk
END:VEVENT
BEGIN:VEVENT
DTSTART;TZID=Europe/London:20251221T180000
DTEND;TZID=Europe/London:20251221T213000
DTSTAMP:20260424T152636
CREATED:20250327T102419Z
LAST-MODIFIED:20250813T214903Z
UID:10000558-1766340000-1766352600@thesheppey.co.uk
SUMMARY:Sheppey JAM night
DESCRIPTION:Unleash Your Inner Maestro: Jam Night at The Sheppey Inn! (Every Third Sunday!)\nCalling all musicians\, from seasoned pros to enthusiastic amateurs! The Sheppey Inn is throwing open its doors for a night of pure musical collaboration\, happening every third Thursday of the month. Forget structured sets and rehearsed routines; this is your chance to dive into the raw\, exhilarating energy of a true jam session. \nImagine a space where creativity flows freely\, where melodies intertwine\, and where the magic of spontaneous music creation takes center stage. We’re inviting you to bring your instruments\, your voices\, and your passion to The Sheppey Inn for an evening of collaborative musical exploration. \nWhether you’re a guitarist with a killer riff\, a bassist with a solid groove\, a drummer with a rhythmic pulse\, a vocalist with soul\, or a keyboardist with a knack for harmonies\, you’ll find a welcoming space to share your talents. We’re not looking for perfection; we’re looking for connection\, for the spark that ignites when musicians come together to create something beautiful and unique. \nThis isn’t about performing for an audience; it’s about making music with an audience. It’s about building bridges through sound\, exploring different genres\, and discovering the unexpected harmonies that arise when musicians let go and play from the heart. \nThe Sheppey Inn provides the perfect backdrop for this musical adventure. With its warm and inviting atmosphere\, it’s a place where you can feel comfortable expressing yourself and connecting with fellow music lovers. \nSo\, gather your instruments\, warm up your vocal cords\, and prepare to be inspired. This is your chance to be part of something special\, to contribute to a collaborative musical tapestry that will leave you feeling energized and uplifted. Join us for a night of musical discovery and create some beautiful noise at The Sheppey Inn! \nMark your calendars: Every Third Sunday \nWe provide the stage\, you bring the music. Let’s jam!
URL:https://thesheppey.co.uk/event/sheppey-jam-night/2025-12-21/
LOCATION:The Sheppey Inn\, The Sheppey Inn\, Lower Godney\, Wells\, Somerset\, BA5 1RZ\, United Kingdom
ATTACH;FMTTYPE=image/png:https://thesheppey.co.uk/wp-content/uploads/jam-session-poster.png
ORGANIZER;CN="Tamsin":MAILTO:contactus@thesheppey.co.uk
END:VEVENT
BEGIN:VEVENT
DTSTART;TZID=Europe/London:20251228T180000
DTEND;TZID=Europe/London:20251228T200000
DTSTAMP:20260424T152636
CREATED:20251228T134005Z
LAST-MODIFIED:20251228T140948Z
UID:10000710-1766944800-1766952000@thesheppey.co.uk
SUMMARY:Sheppey Open Mic night
DESCRIPTION:Unleash Your Inner Star: Open Mic Nights at The Sheppey Inn!\nLooking for a place to share your talent\, discover new artists\, or simply enjoy a fantastic evening of live entertainment? Look no further than The Sheppey Inn’s monthly Open Mic Night! Every last Sunday of the month\, we transform into a hub of creativity\, welcoming performers of all kinds to our stage. \nWhether you’re a seasoned musician\, a budding poet\, a hilarious comedian\, or a captivating storyteller\, our Open Mic Night is the perfect platform to showcase your skills. It’s a supportive and encouraging environment where you can connect with fellow artists\, try out new material\, and share your passion with a friendly crowd. \nWhat to Expect: \n\nA Welcoming Atmosphere: Whether you’re performing or simply enjoying the show\, you’ll find a warm and welcoming atmosphere at The Sheppey Inn. We encourage everyone to come along\, relax\, and enjoy the diverse range of talent on display.\nA Chance to Shine: Our Open Mic Night is open to everyone\, regardless of experience level. Whether you’re a seasoned performer or just starting out\, we encourage you to take the stage and share your gifts with us.\nA Diverse Range of Talent: Expect a mix of music\, poetry\, comedy\, storytelling\, and more! You never know what gems you might discover at our Open Mic Night.\nA Great Community Vibe: Our Open Mic Night is a fantastic opportunity to connect with other artists and members of the local community.\n\nThe Details: \n\nWhen: Every last Sunday of the month\nTime: 6:00 PM – 8:00 PM\nWhere: The Sheppey Inn\, Lower godney\, near Wells \, BA5 1RZ\n\nSo\, mark your calendars for the last Sunday of every month and join us at The Sheppey Inn for an unforgettable evening of live entertainment. Whether you’re performing or simply enjoying the show\, we guarantee you’ll have a fantastic time. \nWe can’t wait to see you there! \n#OpenMicNight #LiveMusic #Poetry #Comedy #TheSheppeyInn #SupportLocalArtists #Somerset #Community
URL:https://thesheppey.co.uk/event/sheppey-open-mic-night-3/
LOCATION:The Sheppey Inn\, The Sheppey Inn\, Lower Godney\, Wells\, Somerset\, BA5 1RZ\, United Kingdom
ATTACH;FMTTYPE=image/png:https://thesheppey.co.uk/wp-content/uploads/Classic-Music-Show-scaled.png
ORGANIZER;CN="Tamsin":MAILTO:contactus@thesheppey.co.uk
END:VEVENT
BEGIN:VEVENT
DTSTART;TZID=Europe/London:20251231T200000
DTEND;TZID=Europe/London:20260101T020000
DTSTAMP:20260424T152636
CREATED:20251105T132421Z
LAST-MODIFIED:20251230T202119Z
UID:10000772-1767211200-1767232800@thesheppey.co.uk
SUMMARY:New Years Eve Soul Shack Tickets SOLD OUT
DESCRIPTION:New Year’s Eve: SOUL SHACK\n  \nGet ready to see out the year in serious style\, because  the Soul Shack Is Back \nPrepare yourselves for the return of the legendary Soul Shack on 31st December\, featuring a DJ whose reputation precedes him… \n  \nBack by Popular Demand: Dad Dancing DJ Lath!\nThe one and only Dad Dancing DJ Lath is back for what promises to be the party of the year. Forget the predictable\, mainstream playlists—DJ Lath is bringing a treasure trove of superb tunes guaranteed to keep your feet moving all night long. \nYou can expect an irresistible mix of: \n\nMotown\nSoul\nNorthern Soul\nFunk\nSka\nLatin Boogaloo\n\n  \nDetails You Need to Know\n  \n\n\n\nDetail\nInformation\n\n\n\n\nEvent\nSoul Shack New Year’s Eve Party\n\n\nDate\n31st December\n\n\nVenue\nThe Sheppey Inn\n\n\nMusic Starts\n8:00 pm\n\n\nMusic Finishes\n2:00 am\n\n\nEntry\n£5 (Tickets required for entry) \nfree glass of Prosecco on arrival before 10pm\n\n\n\n£5 for seven hours of phenomenal music\, excellent company\, and a guarantee of seeing the new year in on the dance floor? You can’t beat that! \nSo\, dust off your dancing shoes\, practice your best moves (whether they are ‘Dad Dancing’ approved or not!)\, and join us at The Sheppey Inn for a truly unforgettable New Year’s Eve Soul Shack.
URL:https://thesheppey.co.uk/event/new-years-eve-soul-shack-tickets-on-sale/
LOCATION:The Sheppey Inn\, The Sheppey Inn\, Lower Godney\, Wells\, Somerset\, BA5 1RZ\, United Kingdom
CATEGORIES:NYE,Party
ATTACH;FMTTYPE=image/png:https://thesheppey.co.uk/wp-content/uploads/NYE-2025-scaled.png
ORGANIZER;CN="Tamsin":MAILTO:contactus@thesheppey.co.uk
END:VEVENT
END:VCALENDAR